BEGIN:VCALENDAR
VERSION:2.0
PRODID:-//wp-events-plugin.com//7.2.3.1//EN
TZID:Europe/Berlin
X-WR-TIMEZONE:Europe/Berlin
BEGIN:VEVENT
UID:53@sb-heidelberg.de
DTSTART;TZID=Europe/Berlin;VALUE=DATE:20170212
DTEND;TZID=Europe/Berlin;VALUE=DATE:20170213
DTSTAMP:20160307T103506Z
URL:https://www.sb-heidelberg.de/events/verbandsrunde-20162017-runde-6/
SUMMARY:Verbandsrunde 2016/2017 Runde 6
DESCRIPTION:
ATTACH;FMTTYPE=image/jpeg:https://www.sb-heidelberg.de/wordpress/wp-conten
 t/uploads/vd-photography-OFiT_4hrQRk-unsplash-scaled.jpg
CATEGORIES:Verbandsrunde
END:VEVENT
BEGIN:VTIMEZONE
TZID:Europe/Berlin
X-LIC-LOCATION:Europe/Berlin
BEGIN:STANDARD
DTSTART:20161030T020000
TZOFFSETFROM:+0200
TZOFFSETTO:+0100
TZNAME:CET
END:STANDARD
END:VTIMEZONE
END:VCALENDAR