BEGIN:VCALENDAR
VERSION:2.0
PRODID:-//wp-events-plugin.com//7.2.3.1//EN
TZID:Europe/Berlin
X-WR-TIMEZONE:Europe/Berlin
BEGIN:VEVENT
UID:140@sb-heidelberg.de
DTSTART;TZID=Europe/Berlin:20171125T120000
DTEND;TZID=Europe/Berlin:20171125T170000
DTSTAMP:20170917T202429Z
URL:https://www.sb-heidelberg.de/events/simultanveranstaltung/
SUMMARY:Simultanveranstaltung
DESCRIPTION:
ATTACH;FMTTYPE=image/jpeg:https://www.sb-heidelberg.de/wordpress/wp-conten
 t/uploads/vd-photography-OFiT_4hrQRk-unsplash-scaled.jpg
CATEGORIES:Bezirksveranstaltungen
LOCATION:Deutsch-Amerikanisches Institut Heidelberg\, Sofienstraße 12\, He
 idelberg\, 69115 \, Deutschland
GEO:49.4077914;8.69392479999999
X-APPLE-STRUCTURED-LOCATION;VALUE=URI;X-ADDRESS=Sofienstraße 12\, Heidelbe
 rg\, 69115 \, Deutschland;X-APPLE-RADIUS=100;X-TITLE=Deutsch-Amerikanische
 s Institut Heidelberg:geo:49.4077914,8.69392479999999
END:VEVENT
BEGIN:VTIMEZONE
TZID:Europe/Berlin
X-LIC-LOCATION:Europe/Berlin
BEGIN:STANDARD
DTSTART:20171029T020000
TZOFFSETFROM:+0200
TZOFFSETTO:+0100
TZNAME:CET
END:STANDARD
END:VTIMEZONE
END:VCALENDAR