BEGIN:VCALENDAR
VERSION:2.0
PRODID:-//wp-events-plugin.com//7.2.3.1//EN
TZID:Europe/Berlin
X-WR-TIMEZONE:Europe/Berlin
BEGIN:VEVENT
UID:209@sb-heidelberg.de
DTSTART;TZID=Europe/Berlin:20191003T100000
DTEND;TZID=Europe/Berlin:20191006T210000
DTSTAMP:20190810T200419Z
URL:https://www.sb-heidelberg.de/events/heidelberger-schachherbst-2019/
SUMMARY:Heidelberger Schachherbst 2019
DESCRIPTION:Mehr Informationen gibt es in der Ausschreibung.
ATTACH;FMTTYPE=image/jpeg:https://www.sb-heidelberg.de/wordpress/wp-conten
 t/uploads/vd-photography-OFiT_4hrQRk-unsplash-scaled.jpg
CATEGORIES:Turniere
LOCATION:Bürgerhaus Emmertsgrund\, Forum 1\, Heidelberg\, 69126\, Deutschl
 and
X-APPLE-STRUCTURED-LOCATION;VALUE=URI;X-ADDRESS=Forum 1\, Heidelberg\, 6912
 6\, Deutschland;X-APPLE-RADIUS=100;X-TITLE=Bürgerhaus Emmertsgrund:geo:0,
 0
END:VEVENT
BEGIN:VTIMEZONE
TZID:Europe/Berlin
X-LIC-LOCATION:Europe/Berlin
BEGIN:DAYLIGHT
DTSTART:20190331T030000
TZOFFSETFROM:+0100
TZOFFSETTO:+0200
TZNAME:CEST
END:DAYLIGHT
END:VTIMEZONE
END:VCALENDAR