BEGIN:VCALENDAR
VERSION:2.0
PRODID:-//wp-events-plugin.com//7.2.3.1//EN
TZID:Europe/Berlin
X-WR-TIMEZONE:Europe/Berlin
BEGIN:VEVENT
UID:222@sb-heidelberg.de
DTSTART;TZID=Europe/Berlin:20191101T100000
DTEND;TZID=Europe/Berlin:20191101T170000
DTSTAMP:20190915T193159Z
URL:https://www.sb-heidelberg.de/events/eppinger-jugendopen-2019/
SUMMARY:Eppinger Jugendopen 2019
DESCRIPTION:Mehr Informationen gibt es im Downloadbereich.
ATTACH;FMTTYPE=image/jpeg:https://www.sb-heidelberg.de/wordpress/wp-conten
 t/uploads/vd-photography-OFiT_4hrQRk-unsplash-scaled.jpg
CATEGORIES:Turniere
LOCATION:Stadthalle Eppingen\, Berliner Ring\, Eppingen\, 75031\, Deutschla
 nd
GEO:49.1299013;8.909809699999982
X-APPLE-STRUCTURED-LOCATION;VALUE=URI;X-ADDRESS=Berliner Ring\, Eppingen\, 
 75031\, Deutschland;X-APPLE-RADIUS=100;X-TITLE=Stadthalle Eppingen:geo:49.
 1299013,8.909809699999982
END:VEVENT
BEGIN:VTIMEZONE
TZID:Europe/Berlin
X-LIC-LOCATION:Europe/Berlin
BEGIN:STANDARD
DTSTART:20191027T020000
TZOFFSETFROM:+0200
TZOFFSETTO:+0100
TZNAME:CET
END:STANDARD
END:VTIMEZONE
END:VCALENDAR