BEGIN:VCALENDAR
VERSION:2.0
PRODID:-//wp-events-plugin.com//7.2.3.1//EN
TZID:Europe/Berlin
X-WR-TIMEZONE:Europe/Berlin
BEGIN:VEVENT
UID:141@sb-heidelberg.de
DTSTART;TZID=Europe/Berlin;VALUE=DATE:20180303
DTEND;TZID=Europe/Berlin;VALUE=DATE:20180304
DTSTAMP:20170917T202640Z
URL:https://www.sb-heidelberg.de/events/bsmm-bezirksseniorenmannschaftsmei
 sterschaft-20172018-runde-5-2/
SUMMARY:BSMM Bezirksseniorenmannschaftsmeisterschaft 2017/2018 Runde 5
DESCRIPTION:
ATTACH;FMTTYPE=image/jpeg:https://www.sb-heidelberg.de/wordpress/wp-conten
 t/uploads/vd-photography-OFiT_4hrQRk-unsplash-scaled.jpg
CATEGORIES:Bezirksturniere
END:VEVENT
BEGIN:VTIMEZONE
TZID:Europe/Berlin
X-LIC-LOCATION:Europe/Berlin
BEGIN:STANDARD
DTSTART:20171029T020000
TZOFFSETFROM:+0200
TZOFFSETTO:+0100
TZNAME:CET
END:STANDARD
END:VTIMEZONE
END:VCALENDAR