BEGIN:VCALENDAR
VERSION:2.0
PRODID:-//wp-events-plugin.com//7.2.3.1//EN
TZID:Europe/Berlin
X-WR-TIMEZONE:Europe/Berlin
BEGIN:VEVENT
UID:381@sb-heidelberg.de
DTSTART;TZID=Europe/Berlin:20241031T093000
DTEND;TZID=Europe/Berlin:20241103T193000
DTSTAMP:20240920T210029Z
URL:https://www.sb-heidelberg.de/events/6-heidelberger-schachherbst/
SUMMARY:6. Heidelberger Schachherbst
DESCRIPTION:Mehr Informationen gibt es in der Ausschreibung.
ATTACH;FMTTYPE=image/jpeg:https://www.sb-heidelberg.de/wordpress/wp-conten
 t/uploads/vd-photography-OFiT_4hrQRk-unsplash-scaled.jpg
CATEGORIES:Turniere
LOCATION:Bürgerhaus Heidelberg\, Forum 1\, Heidelberg\, 69126\, Deutschlan
 d
X-APPLE-STRUCTURED-LOCATION;VALUE=URI;X-ADDRESS=Forum 1\, Heidelberg\, 6912
 6\, Deutschland;X-APPLE-RADIUS=100;X-TITLE=Bürgerhaus Heidelberg:geo:0,0
END:VEVENT
BEGIN:VTIMEZONE
TZID:Europe/Berlin
X-LIC-LOCATION:Europe/Berlin
BEGIN:STANDARD
DTSTART:20241027T020000
TZOFFSETFROM:+0200
TZOFFSETTO:+0100
TZNAME:CET
END:STANDARD
END:VTIMEZONE
END:VCALENDAR